BEGIN:VCALENDAR
VERSION:2.0
PRODID:-//Tukios.com/
BEGIN:VEVENT
UID:864dbf5a-e3a2-41a3-bff5-6540de33a80d@www.moravecjohnson.com
DTSTAMP:20260420T235748Z
DTSTART:20260425T153000Z
DTEND:20260425T163000Z
SUMMARY:Funeral Service
DESCRIPTION:
URL:https://www.moravecjohnson.com/obituaries/betty-tarr
LOCATION: 620 D Street  David City NE 68632
GEO:41.2531067;-97.1268486
END:VEVENT
END:VCALENDAR