BEGIN:VCALENDAR
VERSION:2.0
PRODID:-//Tukios.com/
BEGIN:VEVENT
UID:a996c534-5e2f-40ab-8f9f-db6ef42cd537@www.moravecjohnson.com
DTSTAMP:20260420T235157Z
DTSTART:20260425T143000Z
DTEND:20260425T153000Z
SUMMARY:Visitation
DESCRIPTION:
URL:https://www.moravecjohnson.com/obituaries/betty-tarr
LOCATION: 620 D Street  David City NE 68632
GEO:41.2531067;-97.1268486
END:VEVENT
END:VCALENDAR